BEGIN:VCALENDAR
PRODID:-//hacksw/handcal//NONSGML v1.0//EN
VERSION:2.0
METHOD:PUBLISH
BEGIN:VEVENT
DTSTART:20251202T223000Z
DTEND:20251203T003000Z
LOCATION:Media Theatre Crystal Room-104 E State St., Media, PA
UID:2796020251202T223000ZHOLIDAY PARTY
DTSTAMP:20260420T100253Z
DESCRIPTION:\nMANY THANKS TO OUR SPONSORS:\n \nTHE FOUNDATION FOR DELAWARE COUNTY AND BRINKER SIMPSON. LLC\n \n \n \n                                                                  \n \nHAPPY HOLIDAYS\n \n\n \nTHE DELAWARE COUNTY ESTATE PLANNING COUNCIL INVITES YOU TO JOIN US FOR OUR ANNUAL HOLIDAY COCKTAIL PARTY ON DECEMBER 2, 2025\n \nTHIS YEAR DONATE TO THE MEDIA FOOD BANK AT FIRST CHURCH\n \nThe Council is again collecting donations for the Media Food Bank at First Church.  Donations for the food bank can be supermarket or general gift cards or are by check payable to "Media Food Bank at First Church.  Checks and gift cards will be collected at the party sign-in table.  If you are unable to attend the party but would like to make a donation, please mail to DCEPC, PO Box 2083, Media, PA 19063 or drop off to Donna Willis at KAOP Law, 17 E Front St., Media, PA.  We ask donations be sent to arrive by 12/10/25 so the donations can be timely delivered.\n \nWHEN: TUESDAY DEC. 2, 2025\n \nWHERE: THE MEDIA THEATRE CRYSTAL ROOM, 104 E STATE ST., MEDIA, PA 19063\n \nCOST: $50.00 per member, $55.00 per non-member guest.  Spouses/Partners/Friends/Clients are welcome to attend!  Please reserve by 11/28/2025\n \nHOW TO PAY: Register through this email, online at dcepc.org under Event Calendar or return the form below with check payable to DCEPC and mail to DCEPC, PO Box 2083, Media, PA 19063.  Questions? Call Donna Willis at 610-565-3800 X 5 or Email donnawillis@kaolawassociates.com\n \nRESERVATION FORM-Return by 11/28/2025\n \n \n \nEnclosed is $ ___________ for attendees\n \nNames of attendees:\n \n_______________________________________________________________________________________\n \n______________________________________________________________________________________  \n \nContact phone number & Email____________________________________________________________________\n \n \n
SUMMARY:HOLIDAY PARTY - Delaware County Estate Planning Council 
PRIORITY:3
BEGIN:VALARM
TRIGGER:PT18H
ACTION:DISPLAY
DESCRIPTION:Reminder
END:VALARM
END:VEVENT
END:VCALENDAR